BEGIN:VCALENDAR
VERSION:2.0
PRODID:SchoolNow
CALSCALE:GREGORIAN
BEGIN:VEVENT
UID:00f2194a-17ea-11f1-b80d-0261e2fd6d85
DTSTAMP:20260304T164843Z
SUMMARY:Senior Prom Grand March Cafetorium
URL;VALUE=URI:https://www.newmarket.k12.nh.us/schools/newmarket-jr-sr-high-
 school/calendar/8890301/senior-prom-grand-march-cafetorium
DTSTART:20260515T200000Z
DTEND:20260515T213000Z
END:VEVENT
END:VCALENDAR
