BEGIN:VCALENDAR
VERSION:2.0
PRODID:SchoolNow
CALSCALE:GREGORIAN
BEGIN:VEVENT
UID:1c66457c-9ed0-11f0-ad72-0a58a9feac02
DTSTAMP:20251001T140831Z
SUMMARY:HS Band/Chorus Spring Concert Cafetorium
URL;VALUE=URI:https://www.newmarket.k12.nh.us/schools/newmarket-jr-sr-high-
 school/calendar/8684064/hs-band-chorus-spring-concert-cafetorium
DTSTART:20260519T230000Z
DTEND:20260520T000000Z
END:VEVENT
END:VCALENDAR
