BEGIN:VCALENDAR
VERSION:2.0
PRODID:SchoolNow
CALSCALE:GREGORIAN
BEGIN:VEVENT
UID:17c0f7fc-02a7-11f1-b014-0a58a9feac02
DTSTAMP:20260205T152650Z
SUMMARY:NES Little Big Jump Rope Show (Kindergarten)
URL;VALUE=URI:https://www.newmarket.k12.nh.us/schools/newmarket-elementary-
 school/calendar/8849959/nes-little-big-jump-rope-show-kindergarten
DTSTART:20260409T210000Z
DTEND:20260409T220000Z
END:VEVENT
END:VCALENDAR
