BEGIN:VCALENDAR
VERSION:2.0
PRODID:SchoolNow
CALSCALE:GREGORIAN
BEGIN:VEVENT
UID:0704e214-02a4-11f1-9c79-0e4dd4d2865b
DTSTAMP:20260205T150454Z
SUMMARY:NES PTA - Newmarket Has a Heart Spirit Week\, 2/9 - 2/13.
URL;VALUE=URI:https://www.newmarket.k12.nh.us/schools/newmarket-elementary-
 school/calendar/8849956/nes-pta-newmarket-has-a-heart-spirit-week-2-9-2-13
DTSTART:20260209T130000Z
DTEND:20260213T200000Z
END:VEVENT
END:VCALENDAR
