BEGIN:VCALENDAR
VERSION:2.0
PRODID:SchoolNow
CALSCALE:GREGORIAN
BEGIN:VEVENT
UID:17bac728-02a3-11f1-9da4-0a58a9feac02
DTSTAMP:20260205T150505Z
SUMMARY:NES PTA - Ice Skating at Jackson's Landing
URL;VALUE=URI:https://www.newmarket.k12.nh.us/schools/newmarket-elementary-
 school/calendar/8849951/pta-ice-skating-at-jacksons-landing
DTSTART:20260207T203000Z
DTEND:20260207T223000Z
END:VEVENT
END:VCALENDAR
