BEGIN:VCALENDAR
VERSION:2.0
PRODID:SchoolNow
CALSCALE:GREGORIAN
BEGIN:VEVENT
UID:d6491e3c-feb2-11f0-90a2-0a58a9feac02
DTSTAMP:20260205T150709Z
SUMMARY:NES PTA Literacy Night
URL;VALUE=URI:https://www.newmarket.k12.nh.us/schools/newmarket-elementary-
 school/calendar/8847368/pta-literacy-night-at-nes
DTSTART:20260326T220000Z
DTEND:20260326T233000Z
END:VEVENT
END:VCALENDAR
