BEGIN:VCALENDAR
VERSION:2.0
PRODID:SchoolNow
CALSCALE:GREGORIAN
BEGIN:VEVENT
UID:42c4dc5a-feb2-11f0-b843-0a58a9feac02
DTSTAMP:20260131T143722Z
SUMMARY:UA Family Night at NES
URL;VALUE=URI:https://www.newmarket.k12.nh.us/schools/newmarket-elementary-
 school/calendar/8847367/ua-family-night
DTSTART:20260416T203000Z
DTEND:20260416T220000Z
END:VEVENT
END:VCALENDAR
