BEGIN:VCALENDAR
VERSION:2.0
PRODID:SchoolNow
CALSCALE:GREGORIAN
BEGIN:VEVENT
UID:859045f2-feb1-11f0-984d-0a58a9feac02
DTSTAMP:20260205T150536Z
SUMMARY:NES Multicultural Potluck Dinner
URL;VALUE=URI:https://www.newmarket.k12.nh.us/schools/newmarket-elementary-
 school/calendar/8847366/multicultural-potluck-dinner
DTSTART:20260211T220000Z
DTEND:20260211T233000Z
END:VEVENT
END:VCALENDAR
