BEGIN:VCALENDAR
VERSION:2.0
PRODID:SchoolNow
CALSCALE:GREGORIAN
BEGIN:VEVENT
UID:6eed3bc6-b018-11f0-8c1f-0a58a9feac02
DTSTAMP:20251023T135903Z
SUMMARY:PTA - Book Fair Family Night
URL;VALUE=URI:https://www.newmarket.k12.nh.us/schools/newmarket-elementary-
 school/calendar/8744794/pta-book-fair-family-night
DTSTART:20251120T220000Z
DTEND:20251121T000000Z
END:VEVENT
END:VCALENDAR
