BEGIN:VCALENDAR
VERSION:2.0
PRODID:SchoolNow
CALSCALE:GREGORIAN
BEGIN:VEVENT
UID:c6dc5174-b017-11f0-947e-0ebca1ed02a9
DTSTAMP:20251023T135421Z
SUMMARY:NES Spirit Week
URL;VALUE=URI:https://www.newmarket.k12.nh.us/schools/newmarket-elementary-
 school/calendar/8744793/nes-spirit-week
DTSTART;VALUE=DATE:20251027
DTEND;VALUE=DATE:20251101
END:VEVENT
END:VCALENDAR
