BEGIN:VCALENDAR
VERSION:2.0
PRODID:SchoolNow
CALSCALE:GREGORIAN
BEGIN:VEVENT
UID:28078366-aa9a-11f0-b741-0a58a9feac02
DTSTAMP:20260205T150836Z
SUMMARY:NES Band & Chorus Concert at NJSHS
URL;VALUE=URI:https://www.newmarket.k12.nh.us/schools/newmarket-elementary-
 school/calendar/8726898/band-chorus-concert-at-njshs
DTSTART:20260514T214500Z
DTEND:20260514T223000Z
END:VEVENT
END:VCALENDAR
