BEGIN:VCALENDAR
VERSION:2.0
PRODID:SchoolNow
CALSCALE:GREGORIAN
BEGIN:VEVENT
UID:fa0ddeac-aa98-11f0-8f64-0a58a9feac02
DTSTAMP:20251016T140405Z
SUMMARY:(Snow Date) Band & Chorus Concert at NJSHS
URL;VALUE=URI:https://www.newmarket.k12.nh.us/schools/newmarket-elementary-
 school/calendar/8726897/snow-date-band-chorus-concert-at-njshs
DTSTART:20260115T224500Z
DTEND:20260115T233000Z
END:VEVENT
END:VCALENDAR
