BEGIN:VCALENDAR
VERSION:2.0
PRODID:SchoolNow
CALSCALE:GREGORIAN
BEGIN:VEVENT
UID:a95f4fd6-aa98-11f0-b050-0a58a9feac02
DTSTAMP:20251016T140150Z
SUMMARY:Band & Chorus Concert at NJSHS
URL;VALUE=URI:https://www.newmarket.k12.nh.us/schools/newmarket-elementary-
 school/calendar/8726896/band-chorus-concert-at-njshs
DTSTART:20260113T224500Z
DTEND:20260113T233000Z
END:VEVENT
END:VCALENDAR
