BEGIN:VCALENDAR
VERSION:2.0
PRODID:SchoolNow
CALSCALE:GREGORIAN
BEGIN:VEVENT
UID:5301e4de-a456-11f0-bd78-0a58a9feac02
DTSTAMP:20251008T145151Z
SUMMARY:Picture Retake Day
URL;VALUE=URI:https://www.newmarket.k12.nh.us/schools/newmarket-elementary-
 school/calendar/8705902/picture-retake-day
DTSTART:20251022T140000Z
DTEND:20251022T170000Z
END:VEVENT
END:VCALENDAR
