BEGIN:VCALENDAR
VERSION:2.0
PRODID:SchoolNow
CALSCALE:GREGORIAN
BEGIN:VEVENT
UID:99919f54-a0d0-11f0-b03a-0a58a9feac02
DTSTAMP:20251004T032036Z
SUMMARY:Open House for Grades K - 2nd
URL;VALUE=URI:https://www.newmarket.k12.nh.us/schools/newmarket-elementary-
 school/calendar/8693276/open-house-k-thru-2nd-grade
DTSTART:20251009T220000Z
DTEND:20251009T230000Z
END:VEVENT
END:VCALENDAR
