BEGIN:VCALENDAR
VERSION:2.0
PRODID:SchoolNow
CALSCALE:GREGORIAN
BEGIN:VEVENT
UID:46f7fbf8-a0d0-11f0-bf95-0ea51842133d
DTSTAMP:20251004T032111Z
SUMMARY:Open House for Grades 3rd - 5th
URL;VALUE=URI:https://www.newmarket.k12.nh.us/schools/newmarket-elementary-
 school/calendar/8693275/open-house-grades-3-thru-5
DTSTART:20251007T220000Z
DTEND:20251007T230000Z
END:VEVENT
END:VCALENDAR
