BEGIN:VCALENDAR
VERSION:2.0
PRODID:SchoolNow
CALSCALE:GREGORIAN
BEGIN:VEVENT
UID:9d1d794e-7219-11f0-9b1d-0a58a9feac02
DTSTAMP:20250805T163118Z
SUMMARY:NES-PTA is hosting our Kindergarten Meet Up at the Rec. Center
URL;VALUE=URI:https://www.newmarket.k12.nh.us/schools/newmarket-elementary-
 school/calendar/8472253/nes-pta-is-hosting-our-kindergarten-meet-up-at-the
 -rec-center
DTSTART:20250824T190000Z
DTEND:20250824T210000Z
END:VEVENT
END:VCALENDAR
