BEGIN:VCALENDAR
VERSION:2.0
PRODID:SchoolNow
CALSCALE:GREGORIAN
BEGIN:VEVENT
UID:66a85312-7218-11f0-9ea2-0eee7c8c1e25
DTSTAMP:20260131T141550Z
SUMMARY:NES Hot Shots Big Jump Rope Show at NJSHS
URL;VALUE=URI:https://www.newmarket.k12.nh.us/schools/newmarket-elementary-
 school/calendar/8472251/nes-big-jump-rope-show-at-njshs
DTSTART:20260201T190000Z
DTEND:20260201T210000Z
END:VEVENT
END:VCALENDAR
