BEGIN:VCALENDAR
VERSION:2.0
PRODID:SchoolNow
CALSCALE:GREGORIAN
BEGIN:VEVENT
UID:7e2c9154-b96a-11ef-98ce-0a58a9feac02
DTSTAMP:20241213T155527Z
SUMMARY:Joanne Lazarus's Kindergarten Holiday Show at JSHS
LOCATION:Newmarket Junior Senior High School
URL;VALUE=URI:https://www.newmarket.k12.nh.us/schools/newmarket-elementary-
 school/calendar/7165382/joanne-lazaruss-kindergarten-holiday-show
DTSTART:20241217T230300Z
DTEND:20241218T000300Z
END:VEVENT
END:VCALENDAR
