BEGIN:VCALENDAR
VERSION:2.0
PRODID:SchoolNow
CALSCALE:GREGORIAN
BEGIN:VEVENT
UID:13754202-b96a-11ef-bac7-0a58a9feac02
DTSTAMP:20241213T155111Z
SUMMARY:Spirit Week - Winter Sweater Day
URL;VALUE=URI:https://www.newmarket.k12.nh.us/schools/newmarket-elementary-
 school/calendar/7165381/spirit-week-winter-sweater-day
DTSTART;VALUE=DATE:20241220
DTEND;VALUE=DATE:20241221
END:VEVENT
END:VCALENDAR
