BEGIN:VCALENDAR
VERSION:2.0
PRODID:SchoolNow
CALSCALE:GREGORIAN
BEGIN:VEVENT
UID:e8ff1c64-b969-11ef-b1d1-0e17983adb55
DTSTAMP:20241213T155000Z
SUMMARY:Spirit Week - Comfy and Warm Day
URL;VALUE=URI:https://www.newmarket.k12.nh.us/schools/newmarket-elementary-
 school/calendar/7165379/spirit-week-comfy-and-warm-day
DTSTART;VALUE=DATE:20241219
DTEND;VALUE=DATE:20241220
END:VEVENT
END:VCALENDAR
