BEGIN:VCALENDAR
VERSION:2.0
PRODID:SchoolNow
CALSCALE:GREGORIAN
BEGIN:VEVENT
UID:c5c524aa-b969-11ef-b134-0a58a9feac02
DTSTAMP:20241213T154901Z
SUMMARY:Spirit Week - Winter Character Day
URL;VALUE=URI:https://www.newmarket.k12.nh.us/schools/newmarket-elementary-
 school/calendar/7165378/spirit-week-winter-character-day
DTSTART;VALUE=DATE:20241218
DTEND;VALUE=DATE:20241219
END:VEVENT
END:VCALENDAR
