BEGIN:VCALENDAR
VERSION:2.0
PRODID:SchoolNow
CALSCALE:GREGORIAN
BEGIN:VEVENT
UID:a1d4d36a-b969-11ef-b596-0a58a9feac02
DTSTAMP:20241213T154800Z
SUMMARY:Spirit Week - Hat Day
URL;VALUE=URI:https://www.newmarket.k12.nh.us/schools/newmarket-elementary-
 school/calendar/7165377/spirit-week-hat-day
DTSTART;VALUE=DATE:20241217
DTEND;VALUE=DATE:20241218
END:VEVENT
END:VCALENDAR
