BEGIN:VCALENDAR
VERSION:2.0
PRODID:SchoolNow
CALSCALE:GREGORIAN
BEGIN:VEVENT
UID:74b3e624-b968-11ef-886c-0a58a9feac02
DTSTAMP:20241213T153935Z
SUMMARY:Spirit Week - Winter Colors Day
URL;VALUE=URI:https://www.newmarket.k12.nh.us/schools/newmarket-elementary-
 school/calendar/7165376/spirit-week-winter-colors-day
DTSTART;VALUE=DATE:20241216
DTEND;VALUE=DATE:20241217
END:VEVENT
END:VCALENDAR
