BEGIN:VCALENDAR
VERSION:2.0
PRODID:SchoolNow
CALSCALE:GREGORIAN
BEGIN:VEVENT
UID:9201818c-75cf-11ef-89a8-0a58a9feac02
DTSTAMP:20241015T144038Z
SUMMARY:Spaghetti Supper and Cake Raffle
LOCATION:Newmarket Elementary School
URL;VALUE=URI:https://www.newmarket.k12.nh.us/schools/newmarket-elementary-
 school/calendar/6633949/spaghetti-supper
DTSTART:20241114T220000Z
DTEND:20241114T233000Z
END:VEVENT
END:VCALENDAR
