BEGIN:VCALENDAR
VERSION:2.0
PRODID:SchoolNow
CALSCALE:GREGORIAN
BEGIN:VEVENT
UID:8abfbbb0-75c9-11ef-94ec-0affd9189e87
DTSTAMP:20240918T142314Z
SUMMARY:Open House for Parents & Families 3rd through 5th grade
LOCATION:Newmarket Elementary School
URL;VALUE=URI:https://www.newmarket.k12.nh.us/schools/newmarket-elementary-
 school/calendar/6633940/open-house-for-parents-families-3rd-through-5th-gr
 ade
DTSTART:20241010T213000Z
DTEND:20241010T223000Z
END:VEVENT
END:VCALENDAR
