BEGIN:VCALENDAR
VERSION:2.0
PRODID:SchoolNow
CALSCALE:GREGORIAN
BEGIN:VEVENT
UID:40babd44-75c9-11ef-8506-0a58a9feac02
DTSTAMP:20240918T142110Z
SUMMARY:Open House for Prek - 2nd grade
LOCATION:Newmarket Elementary School
URL;VALUE=URI:https://www.newmarket.k12.nh.us/schools/newmarket-elementary-
 school/calendar/6633935/open-house-for-prek-2nd-grade
DTSTART:20241008T213000Z
DTEND:20241008T223000Z
END:VEVENT
END:VCALENDAR
