BEGIN:VCALENDAR
VERSION:2.0
PRODID:SchoolNow
CALSCALE:GREGORIAN
BEGIN:VEVENT
UID:58041afa-75c8-11ef-8dc5-0a58a9feac02
DTSTAMP:20240920T140453Z
SUMMARY:NES Band and Chorus Concert at NJSHS
LOCATION:Newmarket Junior Senior High School
URL;VALUE=URI:https://www.newmarket.k12.nh.us/schools/newmarket-elementary-
 school/calendar/6633927/nes-band-and-chorus-concert-at-njshs
DTSTART:20250122T230000Z
DTEND:20250123T000000Z
END:VEVENT
END:VCALENDAR
