BEGIN:VCALENDAR
VERSION:2.0
PRODID:SchoolNow
CALSCALE:GREGORIAN
BEGIN:VEVENT
UID:cebb6bc6-655b-11ef-9166-0affdffb2bc5
DTSTAMP:20240828T163725Z
SUMMARY:(Snow Date) NES Hot Shots Jump Rope Show at NJSHS
URL;VALUE=URI:https://www.newmarket.k12.nh.us/schools/newmarket-elementary-
 school/calendar/6474126/snow-date-nes-hot-shots-jump-rope-show-at-njshs
DTSTART:20250216T190000Z
DTEND:20250216T203000Z
END:VEVENT
END:VCALENDAR
