BEGIN:VCALENDAR
VERSION:2.0
PRODID:SchoolNow
CALSCALE:GREGORIAN
BEGIN:VEVENT
UID:8cc5d300-655b-11ef-8498-020fe474fe89
DTSTAMP:20240828T163534Z
SUMMARY:NES Hot Shots Jump Rope Show at NJSHS
URL;VALUE=URI:https://www.newmarket.k12.nh.us/schools/newmarket-elementary-
 school/calendar/6474125/nes-hot-shots-jump-rope-show-at-njshs
DTSTART:20250202T190000Z
DTEND:20250202T203000Z
END:VEVENT
END:VCALENDAR
