BEGIN:VCALENDAR
VERSION:2.0
PRODID:SchoolNow
CALSCALE:GREGORIAN
BEGIN:VEVENT
UID:74ff8940-3ebf-11ef-8779-0e79aae2087f
DTSTAMP:20240710T132409Z
SUMMARY:Picture Retake Day
URL;VALUE=URI:https://www.newmarket.k12.nh.us/schools/newmarket-elementary-
 school/calendar/6241022/picture-retake-day
DTSTART:20241023T123000Z
DTEND:20241023T183000Z
END:VEVENT
END:VCALENDAR
