BEGIN:VCALENDAR
VERSION:2.0
PRODID:SchoolNow
CALSCALE:GREGORIAN
BEGIN:VEVENT
UID:6f97aa44-3ebc-11ef-a839-0affdebb0933
DTSTAMP:20240717T185908Z
SUMMARY:NES School Picture Day
URL;VALUE=URI:https://www.newmarket.k12.nh.us/schools/newmarket-elementary-
 school/calendar/6241019/school-picture-day
DTSTART:20240909T123000Z
DTEND:20240909T183000Z
END:VEVENT
END:VCALENDAR
