BEGIN:VCALENDAR
VERSION:2.0
PRODID:SchoolNow
CALSCALE:GREGORIAN
BEGIN:VEVENT
UID:af2a767e-3ebb-11ef-9736-0a58a9feac02
DTSTAMP:20240726T172601Z
SUMMARY:PTA Kindergarten Meet-Up
URL;VALUE=URI:https://www.newmarket.k12.nh.us/schools/newmarket-elementary-
 school/calendar/6241018/pta-kindergarten-meet-up
DTSTART:20240825T190000Z
DTEND:20240825T210000Z
END:VEVENT
END:VCALENDAR
