BEGIN:VCALENDAR
VERSION:2.0
PRODID:SchoolNow
CALSCALE:GREGORIAN
BEGIN:VEVENT
UID:d9915e16-3a93-11f1-bbd9-02ae18e32595
DTSTAMP:20260417T193047Z
SUMMARY:Spirit Week -  Comfy Clothes!
URL;VALUE=URI:https://www.newmarket.k12.nh.us/calendar/9000994/spirit-week-
 confy-clothes
DTSTART;VALUE=DATE:20260424
DTEND;VALUE=DATE:20260425
END:VEVENT
END:VCALENDAR
