BEGIN:VCALENDAR
VERSION:2.0
PRODID:SchoolNow
CALSCALE:GREGORIAN
BEGIN:VEVENT
UID:b783426c-3a93-11f1-9c0c-0afff4951b29
DTSTAMP:20260417T192913Z
SUMMARY:Spirit Week - Crayon Day!
URL;VALUE=URI:https://www.newmarket.k12.nh.us/calendar/9000993/spirit-week-
 crayon-day
DTSTART;VALUE=DATE:20260423
DTEND;VALUE=DATE:20260424
END:VEVENT
END:VCALENDAR
