BEGIN:VCALENDAR
VERSION:2.0
PRODID:SchoolNow
CALSCALE:GREGORIAN
BEGIN:VEVENT
UID:15b47944-3a6e-11f1-9afc-0200fda79de5
DTSTAMP:20260417T145951Z
SUMMARY:Spirit Week - Earth Day
URL;VALUE=URI:https://www.newmarket.k12.nh.us/calendar/9000945/spirit-week
DTSTART;VALUE=DATE:20260422
DTEND;VALUE=DATE:20260423
END:VEVENT
END:VCALENDAR
