BEGIN:VCALENDAR
VERSION:2.0
PRODID:SchoolNow
CALSCALE:GREGORIAN
BEGIN:VEVENT
UID:fe9a9b88-2d04-11f1-9f01-0a58a9feac02
DTSTAMP:20260331T132449Z
SUMMARY:Rising 6th Grade Family Night Cafetorium/Classrooms
URL;VALUE=URI:https://www.newmarket.k12.nh.us/calendar/8960045/rising-6th-g
 rade-family-night-cafetroium-classrooms
DTSTART:20260527T220000Z
DTEND:20260527T230000Z
END:VEVENT
END:VCALENDAR
