BEGIN:VCALENDAR
VERSION:2.0
PRODID:SchoolNow
CALSCALE:GREGORIAN
BEGIN:VEVENT
UID:b082722e-f873-11f0-9ca0-0a58a9feac02
DTSTAMP:20260304T153150Z
SUMMARY:HS Athletics Winter Sports Award Night Cafetorium
URL;VALUE=URI:https://www.newmarket.k12.nh.us/calendar/8839844/hs-athletics
 -winter-sports-award-night-cafetorium
DTSTART:20260310T220000Z
DTEND:20260310T233000Z
END:VEVENT
END:VCALENDAR
