BEGIN:VCALENDAR
VERSION:2.0
PRODID:SchoolNow
CALSCALE:GREGORIAN
BEGIN:VEVENT
UID:a4c99adc-f613-11f0-892c-0a58a9feac02
DTSTAMP:20260120T152107Z
SUMMARY:8th Grade Parent Night Cafetorium
URL;VALUE=URI:https://www.newmarket.k12.nh.us/calendar/8838073/8th-grade-pa
 rent-night-cafetorium
DTSTART:20260311T220000Z
DTEND:20260311T230000Z
END:VEVENT
END:VCALENDAR
