BEGIN:VCALENDAR
VERSION:2.0
PRODID:SchoolNow
CALSCALE:GREGORIAN
BEGIN:VEVENT
UID:63354b52-c6fc-11f0-b7c7-0a58a9feac02
DTSTAMP:20251121T170614Z
SUMMARY:EARLY RELEASE
URL;VALUE=URI:https://www.newmarket.k12.nh.us/calendar/8807430/early-releas
 e
DTSTART;VALUE=DATE:20251223
DTEND;VALUE=DATE:20251224
END:VEVENT
END:VCALENDAR
