BEGIN:VCALENDAR
VERSION:2.0
PRODID:SchoolNow
CALSCALE:GREGORIAN
BEGIN:VEVENT
UID:1a4281e8-aa97-11f0-b10e-026e82d50f07
DTSTAMP:20251017T124750Z
SUMMARY:NES Spaghetti Supper and Cake Raffle
URL;VALUE=URI:https://www.newmarket.k12.nh.us/calendar/8726895/nes-spaghett
 i-supper-and-cake-raffle
DTSTART:20251113T220000Z
DTEND:20251113T233000Z
END:VEVENT
END:VCALENDAR
