BEGIN:VCALENDAR
VERSION:2.0
PRODID:SchoolNow
CALSCALE:GREGORIAN
BEGIN:VEVENT
UID:4c79c2d0-aa96-11f0-b3a9-0a58a9feac02
DTSTAMP:20251016T134455Z
SUMMARY:PTA Movie Night
URL;VALUE=URI:https://www.newmarket.k12.nh.us/calendar/8726894/pta-movie-ni
 ght
DTSTART:20251110T233000Z
DTEND:20251111T013000Z
END:VEVENT
END:VCALENDAR
