BEGIN:VCALENDAR
VERSION:2.0
PRODID:SchoolNow
CALSCALE:GREGORIAN
BEGIN:VEVENT
UID:51c3eb5e-a2c5-11f0-b0ee-0affe9892fbd
DTSTAMP:20251006T181050Z
SUMMARY:Bike to School with the PTA and Police Department
URL;VALUE=URI:https://www.newmarket.k12.nh.us/calendar/8699575/bike-to-scho
 ol-with-the-pta-and-police-department
DTSTART:20251016T120000Z
DTEND:20251016T123000Z
END:VEVENT
END:VCALENDAR
