BEGIN:VCALENDAR
VERSION:2.0
PRODID:SchoolNow
CALSCALE:GREGORIAN
BEGIN:VEVENT
UID:80335710-9882-11f0-84aa-0a58a9feac02
DTSTAMP:20250923T133751Z
SUMMARY:Student International Trip Meeting Library
URL;VALUE=URI:https://www.newmarket.k12.nh.us/calendar/8655946/student-inte
 rnational-trip-meeting-library
DTSTART:20250930T220000Z
DTEND:20250930T230000Z
END:VEVENT
END:VCALENDAR
