BEGIN:VCALENDAR
VERSION:2.0
PRODID:SchoolNow
CALSCALE:GREGORIAN
BEGIN:VEVENT
UID:468a86d4-924a-11f0-9738-02795e4934c3
DTSTAMP:20250915T154015Z
SUMMARY:Parenting in a Technology Driven World - Parent Forum
LOCATION:NJSHS Library Media Center
URL;VALUE=URI:https://www.newmarket.k12.nh.us/calendar/8624408/parenting-in
 -a-technology-driven-world-parent-forum
DTSTART:20251029T220000Z
DTEND:20251029T233000Z
END:VEVENT
END:VCALENDAR
