BEGIN:VCALENDAR
VERSION:2.0
PRODID:SchoolNow
CALSCALE:GREGORIAN
BEGIN:VEVENT
UID:94422e70-8e55-11f0-bbb1-0affdf6f3aef
DTSTAMP:20250910T145105Z
SUMMARY:Home Coming Dance Cafetorium
URL;VALUE=URI:https://www.newmarket.k12.nh.us/calendar/8604922/home-coming-
 dance-cafetorium
DTSTART:20250927T230000Z
DTEND:20250928T010000Z
END:VEVENT
END:VCALENDAR
