BEGIN:VCALENDAR
VERSION:2.0
PRODID:SchoolNow
CALSCALE:GREGORIAN
BEGIN:VEVENT
UID:d336b348-6d40-11f0-a884-0a58a9feac02
DTSTAMP:20250730T123001Z
SUMMARY:Incoming 6th & 9th grade  Orientation
URL;VALUE=URI:https://www.newmarket.k12.nh.us/calendar/8457582/6th-9th-grad
 e-orientation
DTSTART:20250825T123000Z
DTEND:20250825T153000Z
END:VEVENT
END:VCALENDAR
