BEGIN:VCALENDAR
VERSION:2.0
PRODID:SchoolNow
CALSCALE:GREGORIAN
BEGIN:VEVENT
UID:61431b50-56ac-11f0-b2f8-0a58a9feac02
DTSTAMP:20250701T185121Z
SUMMARY:School Board Meeting- JSHS Cafe
URL;VALUE=URI:https://www.newmarket.k12.nh.us/calendar/8374790/school-board
 -meeting-jshs-library-clone-clone-clone-clone-clone-clone-clone-clone-clon
 e-clone-clone-clone-clone-clone-clone-clone-clone-clone-clone-clone-clone-
 clone-clone-clone-clone-clone-clone-clone
DTSTART:20251204T221500Z
DTEND:20251205T001500Z
END:VEVENT
END:VCALENDAR
