BEGIN:VCALENDAR
VERSION:2.0
PRODID:SchoolNow
CALSCALE:GREGORIAN
BEGIN:VEVENT
UID:3ac1f7e4-56ac-11f0-bb7d-026e14ecddaf
DTSTAMP:20250701T185016Z
SUMMARY:School Board Meeting- JSHS Cafe
URL;VALUE=URI:https://www.newmarket.k12.nh.us/calendar/8374787/school-board
 -meeting-jshs-library-clone-clone-clone-clone-clone-clone-clone-clone-clon
 e-clone-clone-clone-clone-clone-clone-clone-clone-clone-clone-clone-clone-
 clone-clone-clone-clone
DTSTART:20251016T211500Z
DTEND:20251016T231500Z
END:VEVENT
END:VCALENDAR
