BEGIN:VCALENDAR
VERSION:2.0
PRODID:SchoolNow
CALSCALE:GREGORIAN
BEGIN:VEVENT
UID:2ff22438-56ac-11f0-8144-0273f81fc779
DTSTAMP:20250701T184958Z
SUMMARY:School Board Meeting- JSHS Cafe
URL;VALUE=URI:https://www.newmarket.k12.nh.us/calendar/8374786/school-board
 -meeting-jshs-library-clone-clone-clone-clone-clone-clone-clone-clone-clon
 e-clone-clone-clone-clone-clone-clone-clone-clone-clone-clone-clone-clone-
 clone-clone-clone
DTSTART:20251002T211500Z
DTEND:20251002T231500Z
END:VEVENT
END:VCALENDAR
